BEGIN:VCALENDAR
VERSION:2.0
PRODID:-//www.hobby-eishockey.de//NONSGML kigkonsult.se iCalcreator 2.16.12
 //
METHOD:PUBLISH
X-WR-CALNAME:27. Amigos-Cup
X-WR-CALDESC:<div><span style='color: #000000\;'><strong>Zwei Tage Eishocke
 y\, Spaß und Genuss!</strong></span></div>\n<div><br /><span style='color:
  #000000\;'>Freut euch auf ein zweitägiges Eishockeyturnier\, bei dem nich
 t nur die Kufen\, sondern auch der Grill heiß laufen. Für eure Verpflegung
  ist bestens gesorgt: kalte Getränke\, Kuchen sowie frisch gegrillte Würst
 chen und Burger stehen bereit.</span></div>\n<div> </div>\n<div><span styl
 e='color: #000000\;'>Damit der Spaß im Vordergrund bleibt\, soll es ein ec
 htes <strong>Hobbyturnier</strong> sein – daher bitten wir\, auf aktive Li
 gaspieler zu verzichten.</span></div>\n<div> </div>\n<div><span style='col
 or: #000000\;'>Kurz gesagt: lockeres Hockey\, gute Stimmung und volles Woh
 lfühlprogramm – wir freuen uns auf euch!</span></div>
X-WR-TIMEZONE:Europe/Stockholm
BEGIN:VEVENT
UID:20260421T143809CEST-2465GXp4xt@www.hobby-eishockey.de
DTSTAMP:20260421T123809Z
DESCRIPTION:Zwei Tage Eishockey\, Spaß und Genuss!\n
Freut euch auf ein zwei
 tägiges Eishockeyturnier\, bei dem nicht nur die Kufen\, sondern auch der 
 Grill heiß laufen. Für eure Verpflegung ist bestens gesorgt: kalte Getränk
 e\, Kuchen sowie frisch gegrillte Würstchen und Burger stehen bereit.\n \n
 Damit der Spaß im Vordergrund bleibt\, soll es ein echtes Hobbyturnier sei
 n – daher bitten wir\, auf aktive Ligaspieler zu verzichten.\n \nKurz gesa
 gt: lockeres Hockey\, gute Stimmung und volles Wohlfühlprogramm – wir freu
 en uns auf euch!
DTSTART:20260919T080000
DTEND:20260920T150000
LOCATION:Eissporthalle Landsberg Hungerbachweg 1 86899 Landsberg am Lech De
 utschland
SUMMARY:27. Amigos-Cup
URL:https://www.hobby-eishockey.de/calendar_events/calendar_events_view,27-
 -Amigos-Cup,114.htm
END:VEVENT
END:VCALENDAR
