BEGIN:VCALENDAR
VERSION:2.0
PRODID:-//www.hobby-eishockey.de//NONSGML kigkonsult.se iCalcreator 2.16.12
 //
METHOD:PUBLISH
X-WR-CALNAME:27. Amigos Cup
X-WR-CALDESC:<p>Two days of ice hockey\, fun and enjoyment!</p>\n<p>Look fo
 rward to a two-day ice hockey tournament where not only the skates but als
 o the barbecue will run hot. Your catering will be well taken care of: col
 d drinks\, cakes and freshly grilled sausages and burgers will be availabl
 e.</p>\n<p>To keep the fun in the foreground\, it should be a real hobby t
 ournament - therefore we ask you to refrain from active league players.</p
 >\n<p>In short: relaxed hockey\, a good atmosphere and a full feel-good pr
 ogramme - we look forward to seeing you!</p>
X-WR-TIMEZONE:Europe/Stockholm
BEGIN:VEVENT
UID:20260421T145238CEST-29296K4GUd@www.hobby-eishockey.de
DTSTAMP:20260421T125238Z
DESCRIPTION:Two days of ice hockey\, fun and enjoyment!\nLook forward to a 
 two-day ice hockey tournament where not only the skates but also the barbe
 cue will run hot. Your catering will be well taken care of: cold drinks\, 
 cakes and freshly grilled sausages and burgers will be available.\nTo keep
  the fun in the foreground\, it should be a real hobby tournament - theref
 ore we ask you to refrain from active league players.\nIn short: relaxed h
 ockey\, a good atmosphere and a full feel-good programme - we look forward
  to seeing you!
DTSTART:20260919T080000
DTEND:20260920T150000
LOCATION:Eissporthalle Landsberg Hungerbachweg 1 86899 Landsberg am Lech De
 utschland
SUMMARY:27. Amigos Cup
URL:https://www.hobby-eishockey.de/calendar_events/calendar_events_view,27-
 -Amigos-Cup,116.htm
END:VEVENT
END:VCALENDAR
